BEGIN:VCALENDAR
VERSION:2.0
PRODID:SchoolNow
CALSCALE:GREGORIAN
BEGIN:VEVENT
UID:d8d8bf3e-344c-11f1-b646-0e9167dfd171
DTSTAMP:20260415T201659Z
SUMMARY:CDD Board Meeting - Apr. 2026
LOCATION:Burrell Engineering\, 12005 N. Florida Avenue\, Dunnellon\, FL 344
 34
URL;VALUE=URI:https://www.lecantopreservecdd.org/calendar/8982467/cdd-board
 -meeting-jun-2026-clone
DTSTART:20260416T190000Z
DTEND:20260416T200000Z
ATTACH;FILENAME=2026-04-16 Lecanto Preserve CDD Revised Final Agenda.pdf;FM
 TTYPE=application/pdf:https://campussuite-storage.s3.amazonaws.com/prod/15
 59218/a3151b6a-2286-11ef-913c-0e5b1cee5b47/3089872/0bb7fb4e-3908-11f1-bcc3
 -0e15ae30a4b3/file/2026-04-16 Lecanto Preserve CDD Revised Final Agenda.pd
 f
END:VEVENT
END:VCALENDAR
